30.0000000000
0.0000000000
0.0000000000
-30.0000000000
262307.0000000000
5841844.0000000000
