30.0000000000
0.0000000000
0.0000000000
-30.0000000000
254424.0000000000
5683549.0000000000
