30.0000000000
0.0000000000
0.0000000000
-30.0000000000
687100.0000000000
5684134.0000000000
